BEGIN:VCALENDAR
VERSION:2.0
PRODID:-//Integrated Chronic Disease Care Program - ECPv5.3.2.1//NONSGML v1.0//EN
CALSCALE:GREGORIAN
METHOD:PUBLISH
X-WR-CALNAME:Integrated Chronic Disease Care Program
X-ORIGINAL-URL:https://managechronicdisease.com.au
X-WR-CALDESC:Events for Integrated Chronic Disease Care Program
BEGIN:VTIMEZONE
TZID:Australia/Perth
BEGIN:STANDARD
TZOFFSETFROM:+0800
TZOFFSETTO:+0800
TZNAME:AWST
DTSTART:20210101T000000
END:STANDARD
END:VTIMEZONE
BEGIN:VEVENT
DTSTART;TZID=Australia/Perth:20210226T090000
DTEND;TZID=Australia/Perth:20210226T160000
DTSTAMP:20210225T031602
CREATED:20201023T071654Z
LAST-MODIFIED:20201023T071654Z
UID:2979-1614330000-1614355200@managechronicdisease.com.au
SUMMARY:ICDC Team Visit - Morawa
DESCRIPTION:Physiotherapist\, Podiatrist\, Dietitian and Diabetes Educator appointments available to help you manage your chronic condition. GP referral required.\nPlease contact Care Coordinator Beryl on 9965 0697 or 0447 268 603 for more details or to book an appointment. \nEligibility criteria apply\, please check here.
URL:https://managechronicdisease.com.au/event/icdc-team-visit-morawa-11/
LOCATION:Morawa Hospital\, Caulfield Road\, Morawa\, Western Australia\, 6623\, Australia
CATEGORIES:Care Coordination,Diabetes Education,Dietetics,Midwest / Murchison,Physiotherapy,Podiatry
ORGANIZER;CN="Beryl%20Quick":MAILTO:beryl@centralwestrehab.com
END:VEVENT
END:VCALENDAR